BEGIN:VCALENDAR
VERSION:2.0
PRODID:spatie/icalendar-generator
NAME:katarinakralikova.sk
X-WR-CALNAME:katarinakralikova.sk
DESCRIPTION:Events for katarinakralikova.sk
X-WR-CALDESC:Events for katarinakralikova.sk
BEGIN:VTIMEZONE
TZID:Europe/Bratislava
BEGIN:STANDARD
DTSTART:20251026T030000Z
TZOFFSETFROM:+0200
TZOFFSETTO:+0100
END:STANDARD
BEGIN:DAYLIGHT
DTSTART:20260329T020000Z
TZOFFSETFROM:+0100
TZOFFSETTO:+0200
END:DAYLIGHT
BEGIN:STANDARD
DTSTART:20261025T030000Z
TZOFFSETFROM:+0200
TZOFFSETTO:+0100
END:STANDARD
END:VTIMEZONE
BEGIN:VTIMEZONE
TZID:UTC
BEGIN:STANDARD
DTSTART:20250729T142320Z
TZOFFSETFROM:+0000
TZOFFSETTO:+0000
END:STANDARD
END:VTIMEZONE
BEGIN:VEVENT
UID:47438-1777363200-1777370400@katarinakralikova.sk
DTSTAMP:20260425T142320Z
SUMMARY:Kurz Osobnosti Slovenska III. – bonusová prehliadka: Bratislavsk
 ý hrad
DESCRIPTION:Prehliadka je určená iba pre účastníčky ASAPI kurzu Osobn
 osti Slovenska III.
LOCATION:Zámocká 1\, 16/ XI.\, Bratislava\, 81103\, Slovensko
ORGANIZER;CN=Katarína Králiková:MAILTO:info@katarinakralikova.sk
URL:https://katarinakralikova.sk/event/kurz-osobnosti-slovenska-iii-bonusov
 a-prehliadka-bratislavsky-hrad/
DTSTART;TZID=Europe/Bratislava:20260428T100000
DTEND;TZID=Europe/Bratislava:20260428T120000
END:VEVENT
END:VCALENDAR